BEGIN:VCALENDAR
VERSION:2.0
PRODID:Greensboro, NC Calendar Creator
METHOD:PUBLISH
BEGIN:VEVENT
DTSTAMP:20260331T162721
DTSTART:20260531T150000
DTEND:20260531T170000
SUMMARY:AAPI Heritage Month Cinema Series: "Everything Everywhere All at Once"
DESCRIPTION:<p></p><p style="text-align: left;"><span style="text-align: left;"></span><span style="text-align: left;">Join us for the Hemphill Branch's AAPI Heritage Month Cinema Series, a month long showcase of classic and contemporary films created by Asian, Asian American, and Pacific Islander actors, writers, directors, and filmmakers. From the hard-hitting social commentary of <em>Parasite </em>to the magical musical adventure of <em>Moana</em>, each film explores a different aspect of the Asian/AAPI story across theme and genre.</span></p><p>On Sunday, May 31 at 3 pm, we are screening <em>Everything Everywhere All at Once</em>, the 2022 Best Picture winner directed by Daniel Kwan and Daniel Scheinert starring Michelle Yeoh, Ke Huy Kwan, and Stephanie Tsu.</p><p>Here is a description of the film: "A middle-aged Chinese immigrant is swept up into an insane adventure in which she alone can save existence by exploring other universes and connecting with the lives she could have led."</p><div><p>The film is rated R and this program is for adults. Learn more about the film <a href="https://en.wikipedia.org/wiki/Everything_Everywhere_All_at_Once" target="_blank" rel="noopener">here</a>.&nbsp;</p><p>For more information, please contact <a href="mailto:&#97;&#117;&#115;&#116;&#105;&#110;&#46;&#99;&#114;&#97;&#118;&#101;&#114;&#64;&#103;&#114;&#101;&#101;&#110;&#115;&#98;&#111;&#114;&#111;&#45;&#110;&#99;&#46;&#103;&#111;&#118;">Austin</a>.&nbsp;</p><p><p style="text-align: center;"></p></p></div><div></div>
X-ALT-DESC;FMTTYPE=text/html:<p></p><p style="text-align: left;"><span style="text-align: left;"></span><span style="text-align: left;">Join us for the Hemphill Branch's AAPI Heritage Month Cinema Series, a month long showcase of classic and contemporary films created by Asian, Asian American, and Pacific Islander actors, writers, directors, and filmmakers. From the hard-hitting social commentary of <em>Parasite </em>to the magical musical adventure of <em>Moana</em>, each film explores a different aspect of the Asian/AAPI story across theme and genre.</span></p><p>On Sunday, May 31 at 3 pm, we are screening <em>Everything Everywhere All at Once</em>, the 2022 Best Picture winner directed by Daniel Kwan and Daniel Scheinert starring Michelle Yeoh, Ke Huy Kwan, and Stephanie Tsu.</p><p>Here is a description of the film: "A middle-aged Chinese immigrant is swept up into an insane adventure in which she alone can save existence by exploring other universes and connecting with the lives she could have led."</p><div><p>The film is rated R and this program is for adults. Learn more about the film <a href="https://en.wikipedia.org/wiki/Everything_Everywhere_All_at_Once" target="_blank" rel="noopener">here</a>.&nbsp;</p><p>For more information, please contact <a href="mailto:&#97;&#117;&#115;&#116;&#105;&#110;&#46;&#99;&#114;&#97;&#118;&#101;&#114;&#64;&#103;&#114;&#101;&#101;&#110;&#115;&#98;&#111;&#114;&#111;&#45;&#110;&#99;&#46;&#103;&#111;&#118;">Austin</a>.&nbsp;</p><p><p style="text-align: center;"></p></p></div><div></div>
LOCATION:Hemphill Branch Library\, 2301 W. Vandalia Rd. Greensboro\, North Carolina 27407
CLASS:PUBLIC
END:VEVENT
END:VCALENDAR
