BEGIN:VCALENDAR
VERSION:2.0
PRODID:Greensboro, NC Calendar Creator
METHOD:PUBLISH
BEGIN:VEVENT
DTSTAMP:20260317T163035
DTSTART:20260611T103000
DTEND:20260611T111500
SUMMARY:Little Beats, Big Fun at Hemphill Branch
DESCRIPTION:<p>Join us for a free preschool event with Gate City Musikgarten — a lively mix of music, movement, and playful learning! This event is perfect for little ones and their grown-ups to connect, groove, and grow together.</p><p></p>
X-ALT-DESC;FMTTYPE=text/html:<p>Join us for a free preschool event with Gate City Musikgarten — a lively mix of music, movement, and playful learning! This event is perfect for little ones and their grown-ups to connect, groove, and grow together.</p><p></p>
LOCATION:Hemphill Branch Library\, 2301 W. Vandalia Rd. Greensboro\, North Carolina 27407
CLASS:PUBLIC
END:VEVENT
END:VCALENDAR
