BEGIN:VCALENDAR
VERSION:2.0
PRODID:Greensboro, NC Calendar Creator
METHOD:PUBLISH
BEGIN:VEVENT
DTSTAMP:20260317T162950
DTSTART:20260729T103000
DTEND:20260729T120000
SUMMARY:Tombs & Catacombs at Hemphill Branch
DESCRIPTION:<p>Travel below the surface and visit ancient underground cities and spaces. See the Paris Catacombs and the Ellora Caves of India. Visit the inside of an Egyptian pyramid and the Wieliczka Salt Mine. Experience the Glow Worm Caves of New Zealand and dig for buried treasure! This immersive program will delight the whole family!&nbsp;</p><p>&nbsp;</p><p></p>
X-ALT-DESC;FMTTYPE=text/html:<p>Travel below the surface and visit ancient underground cities and spaces. See the Paris Catacombs and the Ellora Caves of India. Visit the inside of an Egyptian pyramid and the Wieliczka Salt Mine. Experience the Glow Worm Caves of New Zealand and dig for buried treasure! This immersive program will delight the whole family!&nbsp;</p><p>&nbsp;</p><p></p>
LOCATION:Hemphill Branch Library\, 2301 W. Vandalia Rd. Greensboro\, North Carolina 27407
CLASS:PUBLIC
END:VEVENT
END:VCALENDAR
