BEGIN:VCALENDAR
VERSION:2.0
PRODID:Greensboro, NC Calendar Creator
METHOD:PUBLISH
BEGIN:VEVENT
DTSTAMP:20260317T162911
DTSTART:20260801T103000
DTEND:20260801T111500
SUMMARY:Family Storytime at Glenwood Branch Library
DESCRIPTION:<p>Join Ms. Cindy for a storytime about how we use our hands. She will share books, rhymes, and songs in this interactive program for the whole family based on the five skills of Every Child Ready to Read: reading, writing, talking, singing and playing.&nbsp;</p><p>&nbsp;</p>
X-ALT-DESC;FMTTYPE=text/html:<p>Join Ms. Cindy for a storytime about how we use our hands. She will share books, rhymes, and songs in this interactive program for the whole family based on the five skills of Every Child Ready to Read: reading, writing, talking, singing and playing.&nbsp;</p><p>&nbsp;</p>
LOCATION:Glenwood Branch Library\, 1901 W. Florida St. Greensboro\, North Carolina 27403
CLASS:PUBLIC
END:VEVENT
END:VCALENDAR
