BEGIN:VCALENDAR
VERSION:2.0
PRODID:Greensboro, NC Calendar Creator
METHOD:PUBLISH
BEGIN:VEVENT
DTSTAMP:20260317T161258
DTSTART:20260507T103000
DTEND:20260507T113000
SUMMARY:Preschool Storytime at Hemphill Branch
DESCRIPTION:<p>Ready for some berry picking? Ms. Marya will share stories about strawberries, blueberries, and more. Preschoolers and toddlers, along with parents and caregivers, are invited to enjoy stories, songs, and movement activities.&nbsp;</p><p>After storytime, we'll create some fingerprint berry paintings.</p><p></p><p>&nbsp;</p><p>&nbsp;</p>
X-ALT-DESC;FMTTYPE=text/html:<p>Ready for some berry picking? Ms. Marya will share stories about strawberries, blueberries, and more. Preschoolers and toddlers, along with parents and caregivers, are invited to enjoy stories, songs, and movement activities.&nbsp;</p><p>After storytime, we'll create some fingerprint berry paintings.</p><p></p><p>&nbsp;</p><p>&nbsp;</p>
LOCATION:Hemphill Branch Library\, 2301 W. Vandalia Rd. Greensboro\, North Carolina 27407
CLASS:PUBLIC
END:VEVENT
END:VCALENDAR
