BEGIN:VCALENDAR
VERSION:2.0
PRODID:Greensboro, NC Calendar Creator
METHOD:PUBLISH
BEGIN:VEVENT
DTSTAMP:20260317T102917
DTSTART:20261022T173000
DTEND:20261022T190000
SUMMARY:Speaker Series: Public Art
DESCRIPTION:<p>We are pleased to announce a four-part speaker series designed to celebrate the Grand Opening of the Downtown Greenway.</p><p>The fourth and final session will be on <strong>Thursday, October 22 from 5:30-7 pm at the Weatherspoon Art Museum featuring Thomas Sayre</strong>, an American sculptor and painter based in Raleigh, North Carolina – in conversation with <strong>Dr. Emily Stamey</strong>, Curator of Academic Programming and Head of Exhibitions at the Weatherspoon Art Museum. Sayre designs and builds public art projects all over the world. His iconic piece, Cairn’s Course is located on the Downtown Greenway’s Western Branch, and he will share insights into the value of public art and how it builds community.</p><div>All are welcome, and be sure to check out more of the Downtown Greenway's Speaker Series, happening throughout 2026.</div><div>&nbsp;</div><div>Other sessions include:</div><ul>    <li>March 26 - Women of the Downtown Greenway Panel - 5:30-7 pm at the Yvonne J. Johnson Event Center at Barber Park</li>    <li>May 7 - East Coast Greenway - 5:30-7 pm at Greensboro History Museum</li>    <li>September 15 - Trail-Oriented Development - 8:30-10 am at TransformGSO by Thrive</li></ul>
X-ALT-DESC;FMTTYPE=text/html:<p>We are pleased to announce a four-part speaker series designed to celebrate the Grand Opening of the Downtown Greenway.</p><p>The fourth and final session will be on <strong>Thursday, October 22 from 5:30-7 pm at the Weatherspoon Art Museum featuring Thomas Sayre</strong>, an American sculptor and painter based in Raleigh, North Carolina – in conversation with <strong>Dr. Emily Stamey</strong>, Curator of Academic Programming and Head of Exhibitions at the Weatherspoon Art Museum. Sayre designs and builds public art projects all over the world. His iconic piece, Cairn’s Course is located on the Downtown Greenway’s Western Branch, and he will share insights into the value of public art and how it builds community.</p><div>All are welcome, and be sure to check out more of the Downtown Greenway's Speaker Series, happening throughout 2026.</div><div>&nbsp;</div><div>Other sessions include:</div><ul>    <li>March 26 - Women of the Downtown Greenway Panel - 5:30-7 pm at the Yvonne J. Johnson Event Center at Barber Park</li>    <li>May 7 - East Coast Greenway - 5:30-7 pm at Greensboro History Museum</li>    <li>September 15 - Trail-Oriented Development - 8:30-10 am at TransformGSO by Thrive</li></ul>
LOCATION:Weatherspoon Art Museum\, 500 Tate Street Greensboro\, North Carolina 27412
CLASS:PUBLIC
END:VEVENT
END:VCALENDAR
