BEGIN:VCALENDAR
VERSION:2.0
PRODID:Greensboro, NC Calendar Creator
METHOD:PUBLISH
BEGIN:VEVENT
DTSTAMP:20260316T102416
DTSTART:20260330T170000
DTEND:20260330T190000
SUMMARY:Candy Land Games and Egg Hunt
DESCRIPTION:<p>Step into a sweet and colorful adventure at our Candy Land Egg Hunt! Families are invited to explore a whimsical world of candy-themed fun while hunting for bright, treat-filled eggs along the way. It’s a magical, sugar-sprinkled experience full of surprises, laughter, and family fun. </p><p>Come ready to hunt, play, and make sweet memories together!</p>
X-ALT-DESC;FMTTYPE=text/html:<p>Step into a sweet and colorful adventure at our Candy Land Egg Hunt! Families are invited to explore a whimsical world of candy-themed fun while hunting for bright, treat-filled eggs along the way. It’s a magical, sugar-sprinkled experience full of surprises, laughter, and family fun. </p><p>Come ready to hunt, play, and make sweet memories together!</p>
LOCATION:Leonard Recreation Center\, 6324 Ballinger Rd. Greensboro\, North Carolina 27410
CLASS:PUBLIC
END:VEVENT
END:VCALENDAR
