BEGIN:VCALENDAR
VERSION:2.0
PRODID:Greensboro, NC Calendar Creator
METHOD:PUBLISH
BEGIN:VEVENT
DTSTAMP:20260313T143459
DTSTART:20260530T150000
DTEND:20260530T170000
SUMMARY:Read to Our Animal Friends with NC Pet Partners
DESCRIPTION:<p>If you love animals, and want to practice your public speaking or reading aloud skills, come read with our animal friends from NC Pet Partners. All ages, including adults, are welcome! Book selections will be provided, but you can also bring your own favorite books. Registration for a time slot is required. To register call the Glenn McNairy Branch at 336-373-2015 or email <a href="mailto:&#109;&#97;&#100;&#101;&#108;&#105;&#110;&#101;&#46;&#97;&#110;&#103;&#108;&#105;&#110;&#64;&#103;&#114;&#101;&#101;&#110;&#115;&#98;&#111;&#114;&#111;&#45;&#110;&#99;&#46;&#103;&#111;&#118;">Madeline Anglin.</a></p>
X-ALT-DESC;FMTTYPE=text/html:<p>If you love animals, and want to practice your public speaking or reading aloud skills, come read with our animal friends from NC Pet Partners. All ages, including adults, are welcome! Book selections will be provided, but you can also bring your own favorite books. Registration for a time slot is required. To register call the Glenn McNairy Branch at 336-373-2015 or email <a href="mailto:&#109;&#97;&#100;&#101;&#108;&#105;&#110;&#101;&#46;&#97;&#110;&#103;&#108;&#105;&#110;&#64;&#103;&#114;&#101;&#101;&#110;&#115;&#98;&#111;&#114;&#111;&#45;&#110;&#99;&#46;&#103;&#111;&#118;">Madeline Anglin.</a></p>
LOCATION:Glenn McNairy Branch Library\, 4860 Lake Jeanette Rd. Greensboro\, North Carolina 27455
CLASS:PUBLIC
END:VEVENT
END:VCALENDAR
