BEGIN:VCALENDAR
VERSION:2.0
PRODID:Greensboro, NC Calendar Creator
METHOD:PUBLISH
BEGIN:VEVENT
DTSTAMP:20260317T164058
DTSTART:20260620T140000
DTEND:20260620T161500
SUMMARY:Saturday Matinee at Glenwood Branch Library
DESCRIPTION:<p>Paleontologists and other scientists are invited to tour an island theme park with real dinosaurs. They have been assured it is safe, but is it really? Join us for the first movie in this heart-stopping series. It is rated PG-13 and will play for 2 hours and 2 minutes. This is rated for ages 13 and above.</p><p></p>
X-ALT-DESC;FMTTYPE=text/html:<p>Paleontologists and other scientists are invited to tour an island theme park with real dinosaurs. They have been assured it is safe, but is it really? Join us for the first movie in this heart-stopping series. It is rated PG-13 and will play for 2 hours and 2 minutes. This is rated for ages 13 and above.</p><p></p>
LOCATION:Glenwood Branch Library\, 1901 W. Florida St. Greensboro\, North Carolina 27403
CLASS:PUBLIC
END:VEVENT
END:VCALENDAR
