BEGIN:VCALENDAR
VERSION:2.0
PRODID:Greensboro, NC Calendar Creator
METHOD:PUBLISH
BEGIN:VEVENT
DTSTAMP:20260421T142953
DTSTART:20260426T160000
DTEND:20260426T173000
SUMMARY:Poetry Groove Open Mic with Jim Zola
DESCRIPTION:<p>Poets ages 12 and over are invited to share their poetry to celebrate National Poetry Month. This event will be hosted by local poet Jim Zola. Books by the poet will be available for sale and signing. Join us and get your poetry groove on. Contact Ronald Headen at 336-412-6199 or&nbsp;<a>email</a>&nbsp;for more information.&nbsp;</p><p><p style="text-align: center;">&nbsp;</p></p><p style="text-align: center;">&nbsp;</p><p><p style="text-align: center;"><p style="text-align: center;"><p style="text-align: center;">&nbsp; &nbsp; &nbsp; &nbsp; &nbsp; &nbsp; &nbsp; &nbsp; &nbsp; &nbsp; &nbsp; &nbsp; &nbsp; &nbsp; &nbsp; &nbsp; &nbsp; &nbsp; &nbsp; &nbsp;&nbsp; &nbsp; &nbsp; &nbsp; &nbsp; &nbsp; &nbsp; &nbsp; &nbsp; &nbsp; &nbsp; &nbsp; &nbsp; &nbsp; &nbsp; &nbsp; &nbsp; &nbsp; &nbsp; &nbsp; &nbsp; &nbsp; &nbsp; &nbsp;</p></p></p></p><p>&nbsp;</p><p>&nbsp;</p><p>&nbsp;&nbsp; &nbsp;&nbsp;</p><p><p style="text-align: justify;"><p style="text-align: center;">&nbsp;</p></p></p><p>&nbsp;</p>
X-ALT-DESC;FMTTYPE=text/html:<p>Poets ages 12 and over are invited to share their poetry to celebrate National Poetry Month. This event will be hosted by local poet Jim Zola. Books by the poet will be available for sale and signing. Join us and get your poetry groove on. Contact Ronald Headen at 336-412-6199 or&nbsp;<a>email</a>&nbsp;for more information.&nbsp;</p><p><p style="text-align: center;">&nbsp;</p></p><p style="text-align: center;">&nbsp;</p><p><p style="text-align: center;"><p style="text-align: center;"><p style="text-align: center;">&nbsp; &nbsp; &nbsp; &nbsp; &nbsp; &nbsp; &nbsp; &nbsp; &nbsp; &nbsp; &nbsp; &nbsp; &nbsp; &nbsp; &nbsp; &nbsp; &nbsp; &nbsp; &nbsp; &nbsp;&nbsp; &nbsp; &nbsp; &nbsp; &nbsp; &nbsp; &nbsp; &nbsp; &nbsp; &nbsp; &nbsp; &nbsp; &nbsp; &nbsp; &nbsp; &nbsp; &nbsp; &nbsp; &nbsp; &nbsp; &nbsp; &nbsp; &nbsp; &nbsp;</p></p></p></p><p>&nbsp;</p><p>&nbsp;</p><p>&nbsp;&nbsp; &nbsp;&nbsp;</p><p><p style="text-align: justify;"><p style="text-align: center;">&nbsp;</p></p></p><p>&nbsp;</p>
LOCATION:Hemphill Branch Library\, 2301 W. Vandalia Rd. Greensboro\, North Carolina 27407
CLASS:PUBLIC
END:VEVENT
END:VCALENDAR
