BEGIN:VCALENDAR
VERSION:2.0
PRODID:Greensboro, NC Calendar Creator
METHOD:PUBLISH
BEGIN:VEVENT
DTSTAMP:20260313T114022
DTSTART:20260405T170000
DTEND:20260405T190000
SUMMARY:Strength of a Woman Tribute Concert
DESCRIPTION:<p>The&nbsp;Strength of a Woman Tribute Concert promises to be a soulful evening filled with the beautiful melodies and heartfelt lyrics of Phyllis Hyman songs.&nbsp;This moving tribute celebrates music, healing, and hope—while raising awareness for mental health and suicide prevention.</p><p>Come and experience the timeless classics of Phyllis Hyman performed by Cynthia Campbell. Let the music transport you to a place of nostalgia and celebration.</p><p>Doors open at&nbsp;3:00 pm for a relaxed&nbsp;meet-and-mingle dining experience. Guests are encouraged to arrive early to enjoy food, fellowship, and community before the show begins promptly at&nbsp;5:00 pm.</p><p>&nbsp;You can purchase tickets <a href="https://www.eventbrite.com/e/strength-of-a-woman-tribute-concert-featuring-live-phyllis-hyman-songs-tickets-1980277298708?msockid=3a66d74d3534665422acc134346267e4" target="_blank" rel="noopener">here</a>. Ticket prices start at $28.52.</p>
X-ALT-DESC;FMTTYPE=text/html:<p>The&nbsp;Strength of a Woman Tribute Concert promises to be a soulful evening filled with the beautiful melodies and heartfelt lyrics of Phyllis Hyman songs.&nbsp;This moving tribute celebrates music, healing, and hope—while raising awareness for mental health and suicide prevention.</p><p>Come and experience the timeless classics of Phyllis Hyman performed by Cynthia Campbell. Let the music transport you to a place of nostalgia and celebration.</p><p>Doors open at&nbsp;3:00 pm for a relaxed&nbsp;meet-and-mingle dining experience. Guests are encouraged to arrive early to enjoy food, fellowship, and community before the show begins promptly at&nbsp;5:00 pm.</p><p>&nbsp;You can purchase tickets <a href="https://www.eventbrite.com/e/strength-of-a-woman-tribute-concert-featuring-live-phyllis-hyman-songs-tickets-1980277298708?msockid=3a66d74d3534665422acc134346267e4" target="_blank" rel="noopener">here</a>. Ticket prices start at $28.52.</p>
LOCATION:Greensboro Cultural Center\, 200 N. Davie St. Greensboro\, North Carolina 27401
CLASS:PUBLIC
END:VEVENT
END:VCALENDAR
