BEGIN:VCALENDAR
VERSION:2.0
PRODID:Greensboro, NC Calendar Creator
METHOD:PUBLISH
BEGIN:VEVENT
DTSTAMP:20260313T110855
DTSTART:20260430T160000
DTEND:20260430T173000
SUMMARY:Cultural Connections: El Dia de los Ninos, El Dia de los Libros/Children's Day, Book Day
DESCRIPTION:<p>In 1996, author Pat Mora had the idea of celebrating Día del Niño in the U.S. as a day to honor children and celebrate bilingual literacy--not just for children of Latino heritage, but for all children to celebrate and learn about their personal heritage. Join us as we share stories, rhymes, and songs in celebration of Children's Day/Book Day. We will look at other parts of the world which encourage literacy, and sharing family stories and culture.&nbsp;</p><p></p><p>&nbsp;</p>
X-ALT-DESC;FMTTYPE=text/html:<p>In 1996, author Pat Mora had the idea of celebrating Día del Niño in the U.S. as a day to honor children and celebrate bilingual literacy--not just for children of Latino heritage, but for all children to celebrate and learn about their personal heritage. Join us as we share stories, rhymes, and songs in celebration of Children's Day/Book Day. We will look at other parts of the world which encourage literacy, and sharing family stories and culture.&nbsp;</p><p></p><p>&nbsp;</p>
LOCATION:Glenwood Branch Library\, 1901 W. Florida St. Greensboro\, North Carolina 27403
CLASS:PUBLIC
END:VEVENT
END:VCALENDAR
