BEGIN:VCALENDAR
VERSION:2.0
PRODID:Greensboro, NC Calendar Creator
METHOD:PUBLISH
BEGIN:VEVENT
DTSTAMP:20260313T110419
DTSTART:20260725T103000
DTEND:20260725T113000
SUMMARY:Mad Science at Kathleen Clay
DESCRIPTION:<p dir="ltr">Experience science, humor and fun during this interactive, out-of-this world presentation by science educators for ages 5 to 12. </p><div></div>
X-ALT-DESC;FMTTYPE=text/html:<p dir="ltr">Experience science, humor and fun during this interactive, out-of-this world presentation by science educators for ages 5 to 12. </p><div></div>
LOCATION:Kathleen Clay Edwards Family Branch Library\, 1420 Price Park Rd. Greensboro\, North Carolina 27410
CLASS:PUBLIC
END:VEVENT
END:VCALENDAR
