BEGIN:VCALENDAR
VERSION:2.0
PRODID:Greensboro, NC Calendar Creator
METHOD:PUBLISH
BEGIN:VEVENT
DTSTAMP:20260313T110349
DTSTART:20260706T110000
DTEND:20260706T120000
SUMMARY:Firefighters and Firetrucks
DESCRIPTION:<p dir="ltr">Learn all about fire safety with some of Greensboro’s finest firefighters. You might even get a chance to see the firetruck up close! </p><div></div>
X-ALT-DESC;FMTTYPE=text/html:<p dir="ltr">Learn all about fire safety with some of Greensboro’s finest firefighters. You might even get a chance to see the firetruck up close! </p><div></div>
LOCATION:Kathleen Clay Edwards Family Branch Library\, 1420 Price Park Rd. Greensboro\, North Carolina 27410
CLASS:PUBLIC
END:VEVENT
END:VCALENDAR
