BEGIN:VCALENDAR
VERSION:2.0
PRODID:Greensboro, NC Calendar Creator
METHOD:PUBLISH
BEGIN:VEVENT
DTSTAMP:20260313T110318
DTSTART:20260708T150000
DTEND:20260708T160000
SUMMARY:Block Party: Unearth a Minecraft Adventure at Kathleen Clay
DESCRIPTION:<p>Drop into a Minecraft-inspired world of hands-on fun. Explore creative stations featuring pixel art, scavenger hunts, LEGO building, snap circuits, trivia, and an action-packed obstacle course. Blend STEM, art, literacy, and play as you craft, build, dodge mobs, and test your skills.</p><p>This event is perfect for Minecraft fans of all levels. No screen required, just imagination.</p><div></div>
X-ALT-DESC;FMTTYPE=text/html:<p>Drop into a Minecraft-inspired world of hands-on fun. Explore creative stations featuring pixel art, scavenger hunts, LEGO building, snap circuits, trivia, and an action-packed obstacle course. Blend STEM, art, literacy, and play as you craft, build, dodge mobs, and test your skills.</p><p>This event is perfect for Minecraft fans of all levels. No screen required, just imagination.</p><div></div>
LOCATION:Kathleen Clay Edwards Family Branch Library\, 1420 Price Park Rd. Greensboro\, North Carolina 27410
CLASS:PUBLIC
END:VEVENT
END:VCALENDAR
