BEGIN:VCALENDAR
VERSION:2.0
PRODID:Greensboro, NC Calendar Creator
METHOD:PUBLISH
BEGIN:VEVENT
DTSTAMP:20260313T110124
DTSTART:20260806T160000
DTEND:20260806T170000
SUMMARY:Bejeweled Books
DESCRIPTION:Bring your own personal book and decorate the cover with jewels and gems! This program is intended for ages 12 and up.
X-ALT-DESC;FMTTYPE=text/html:Bring your own personal book and decorate the cover with jewels and gems! This program is intended for ages 12 and up.
LOCATION:Kathleen Clay Edwards Family Branch Library\, 1420 Price Park Rd. Greensboro\, North Carolina 27410
CLASS:PUBLIC
END:VEVENT
END:VCALENDAR
