BEGIN:VCALENDAR
VERSION:2.0
PRODID:Greensboro, NC Calendar Creator
METHOD:PUBLISH
BEGIN:VEVENT
DTSTAMP:20260313T104618
DTSTART:20260806T170000
DTEND:20260806T180000
SUMMARY:Zine Kit
DESCRIPTION:Zine workshops are back at McGirt-Horton! Zines are short, self-made published works. Join us on the first Thursday of each month to learn how to make your own zine and a bit about the history. The kit is available for use during all normal library hours.
X-ALT-DESC;FMTTYPE=text/html:Zine workshops are back at McGirt-Horton! Zines are short, self-made published works. Join us on the first Thursday of each month to learn how to make your own zine and a bit about the history. The kit is available for use during all normal library hours.
LOCATION:McGirt-Horton Branch Library\, 2501 Phillips Ave. Greensboro\, North Carolina 27405
CLASS:PUBLIC
END:VEVENT
END:VCALENDAR
