BEGIN:VCALENDAR
VERSION:2.0
PRODID:Greensboro, NC Calendar Creator
METHOD:PUBLISH
BEGIN:VEVENT
DTSTAMP:20260313T104342
DTSTART:20260605T100000
DTEND:20260605T103000
SUMMARY:First Friday Storytime on the Downtown Greenway
DESCRIPTION:<p>Join us the First Friday of the month in Woven Works Park for a fun-filled storytime! Young children will enjoy engaging books, playful movement, and cheerful songs with a member of the Youth Librarians team from Greensboro Public Library. You can stay and play at Woven Works Park  and enjoy the variety of accessible playground features!</p><p>On-street parking is available at 401 Cumberland St.</p><p></p>
X-ALT-DESC;FMTTYPE=text/html:<p>Join us the First Friday of the month in Woven Works Park for a fun-filled storytime! Young children will enjoy engaging books, playful movement, and cheerful songs with a member of the Youth Librarians team from Greensboro Public Library. You can stay and play at Woven Works Park  and enjoy the variety of accessible playground features!</p><p>On-street parking is available at 401 Cumberland St.</p><p></p>
LOCATION:Woven Works Park\, 401 Cumberland St Greensboro\, North Carolina 27401
CLASS:PUBLIC
END:VEVENT
END:VCALENDAR
