BEGIN:VCALENDAR
VERSION:2.0
PRODID:Greensboro, NC Calendar Creator
METHOD:PUBLISH
BEGIN:VEVENT
DTSTAMP:20260313T104234
DTSTART:20260711T103000
DTEND:20260711T111500
SUMMARY:Shark Teeth Explorers at Benjamin Branch
DESCRIPTION:<p dir="ltr">Dig deep and unearth the world of ancient sharks. Kids will learn about fossils, shark teeth, and how scientists discover them through an engaging presentation, stories and interactive fun. Then it's time to hunt! Search for hidden shark teeth, identify different shark species, and enjoy a hands on craft.</p><p dir="ltr"></p><div></div>
X-ALT-DESC;FMTTYPE=text/html:<p dir="ltr">Dig deep and unearth the world of ancient sharks. Kids will learn about fossils, shark teeth, and how scientists discover them through an engaging presentation, stories and interactive fun. Then it's time to hunt! Search for hidden shark teeth, identify different shark species, and enjoy a hands on craft.</p><p dir="ltr"></p><div></div>
LOCATION:Benjamin Branch Library\, 1530 Benjamin Parkway Greensboro\, North Carolina 27408
CLASS:PUBLIC
END:VEVENT
END:VCALENDAR
