BEGIN:VCALENDAR
VERSION:2.0
PRODID:Greensboro, NC Calendar Creator
METHOD:PUBLISH
BEGIN:VEVENT
DTSTAMP:20260313T104102
DTSTART:20260723T143000
DTEND:20260723T160000
SUMMARY:Benjamin Builders LEGO Challenge
DESCRIPTION:<p>Can you engineer an unearthly LEGO build inspired by outer space, mysterious worlds or something delightfully spooky? Put your skills to the test in this open-ended challenge designed for school-age children.</p><p></p><p>&nbsp;</p>
X-ALT-DESC;FMTTYPE=text/html:<p>Can you engineer an unearthly LEGO build inspired by outer space, mysterious worlds or something delightfully spooky? Put your skills to the test in this open-ended challenge designed for school-age children.</p><p></p><p>&nbsp;</p>
LOCATION:Benjamin Branch Library\, 1530 Benjamin Parkway Greensboro\, North Carolina 27408
CLASS:PUBLIC
END:VEVENT
END:VCALENDAR
