BEGIN:VCALENDAR
VERSION:2.0
PRODID:Greensboro, NC Calendar Creator
METHOD:PUBLISH
BEGIN:VEVENT
DTSTAMP:20260313T103944
DTSTART:20260815T103000
DTEND:20260815T113000
SUMMARY:Dinosaur Adventure Challenge at the Benjamin Branch
DESCRIPTION:<p>Are you up for our Dinosaur Adventure Challenge?&nbsp;Drop in&nbsp;for this&nbsp;fun obstacle course all about dinosaurs and prehistoric animals.&nbsp;Test your&nbsp;skills as you&nbsp;save dinosaur eggs, cross a lava flow, feed a&nbsp;hungry&nbsp;T-Rex, and&nbsp;more!&nbsp;</p><p>All ages are welcome.&nbsp;</p><p>&nbsp;</p>
X-ALT-DESC;FMTTYPE=text/html:<p>Are you up for our Dinosaur Adventure Challenge?&nbsp;Drop in&nbsp;for this&nbsp;fun obstacle course all about dinosaurs and prehistoric animals.&nbsp;Test your&nbsp;skills as you&nbsp;save dinosaur eggs, cross a lava flow, feed a&nbsp;hungry&nbsp;T-Rex, and&nbsp;more!&nbsp;</p><p>All ages are welcome.&nbsp;</p><p>&nbsp;</p>
LOCATION:Benjamin Branch Library\, 1530 Benjamin Parkway Greensboro\, North Carolina 27408
CLASS:PUBLIC
END:VEVENT
END:VCALENDAR
