BEGIN:VCALENDAR
VERSION:2.0
PRODID:Greensboro, NC Calendar Creator
METHOD:PUBLISH
BEGIN:VEVENT
DTSTAMP:20260313T100706
DTSTART:20260506T173000
DTEND:20260506T190000
SUMMARY:Read-to-a-Pet Pal with NC Pet Partners
DESCRIPTION:<p>Reading to a pet can improve confidence and comprehension skills. Trained therapy animals provide a calm, nonjudgmental audience for readers, whether struggling, reluctant, or new.</p><p>Sign up for a 20-minute session with one of these therapy animals and their trained handlers. Some reading guidance can be provided to ensure a positive experience.</p><p>Email <a href="mailto:bonnie.fulp@greensboro-nc.gov?subject=bonnie.fulp@greensboro-nc.gov" id="bonnie.fulp@greensboro-nc.gov" title="bonnie.fulp@greensboro-nc.gov">Bonnie Fulp</a> to secure your spot. Registration is strongly encouraged, but not required.&nbsp;&nbsp;</p>
X-ALT-DESC;FMTTYPE=text/html:<p>Reading to a pet can improve confidence and comprehension skills. Trained therapy animals provide a calm, nonjudgmental audience for readers, whether struggling, reluctant, or new.</p><p>Sign up for a 20-minute session with one of these therapy animals and their trained handlers. Some reading guidance can be provided to ensure a positive experience.</p><p>Email <a href="mailto:bonnie.fulp@greensboro-nc.gov?subject=bonnie.fulp@greensboro-nc.gov" id="bonnie.fulp@greensboro-nc.gov" title="bonnie.fulp@greensboro-nc.gov">Bonnie Fulp</a> to secure your spot. Registration is strongly encouraged, but not required.&nbsp;&nbsp;</p>
LOCATION:McGirt-Horton Branch Library\, 2501 Phillips Ave. Greensboro\, North Carolina 27405
CLASS:PUBLIC
END:VEVENT
END:VCALENDAR
