BEGIN:VCALENDAR
VERSION:2.0
PRODID:Greensboro, NC Calendar Creator
METHOD:PUBLISH
BEGIN:VEVENT
DTSTAMP:20260313T100626
DTSTART:20260804T150000
DTEND:20260804T160000
SUMMARY:Unicorn Party
DESCRIPTION:<p dir="ltr">Decorate a unicorn horn, paint a rainbow craft, and get a fun unicorn tattoo at the unicorn party! </p><div></div>
X-ALT-DESC;FMTTYPE=text/html:<p dir="ltr">Decorate a unicorn horn, paint a rainbow craft, and get a fun unicorn tattoo at the unicorn party! </p><div></div>
LOCATION:Kathleen Clay Edwards Family Branch Library\, 1420 Price Park Rd. Greensboro\, North Carolina 27410
CLASS:PUBLIC
END:VEVENT
END:VCALENDAR
