BEGIN:VCALENDAR
VERSION:2.0
PRODID:Greensboro, NC Calendar Creator
METHOD:PUBLISH
BEGIN:VEVENT
DTSTAMP:20260312T120214
DTSTART:20260728T150000
DTEND:20260728T160000
SUMMARY:Mini Canvas Art for Tweens
DESCRIPTION:How small can you draw? Paint your own teeny, tiny masterpiece to bring home with you. This program is intended for ages 10 to 15.
X-ALT-DESC;FMTTYPE=text/html:How small can you draw? Paint your own teeny, tiny masterpiece to bring home with you. This program is intended for ages 10 to 15.
LOCATION:Kathleen Clay Edwards Family Branch Library\, 1420 Price Park Rd. Greensboro\, North Carolina 27410
CLASS:PUBLIC
END:VEVENT
END:VCALENDAR
