BEGIN:VCALENDAR
VERSION:2.0
PRODID:Greensboro, NC Calendar Creator
METHOD:PUBLISH
BEGIN:VEVENT
DTSTAMP:20260312T115943
DTSTART:20260806T183000
DTEND:20260806T193000
SUMMARY:Interviewing 101
DESCRIPTION:Interviewing 101 is a welcoming, low-pressure workshop for anyone who feels nervous or unsure about job interviews.  This hands-on, interactive session covers what to expect in an interview, how to answer common questions, and ways to present yourself with confidence. Participants will have the chance to practice through mock interviews and receive encouraging, constructive feedback in a supportive environment.<br>Attendees can also take advantage of the opportunity to receive a free digital headshot, perfect for resumes, LinkedIn profiles, and job applications, helping participants leave feeling prepared and confident for the next step in their job search.<br><br>
X-ALT-DESC;FMTTYPE=text/html:Interviewing 101 is a welcoming, low-pressure workshop for anyone who feels nervous or unsure about job interviews.  This hands-on, interactive session covers what to expect in an interview, how to answer common questions, and ways to present yourself with confidence. Participants will have the chance to practice through mock interviews and receive encouraging, constructive feedback in a supportive environment.<br>Attendees can also take advantage of the opportunity to receive a free digital headshot, perfect for resumes, LinkedIn profiles, and job applications, helping participants leave feeling prepared and confident for the next step in their job search.<br><br>
LOCATION:Glenwood Branch Library\, 1901 W. Florida St. Greensboro\, North Carolina 27403
CLASS:PUBLIC
END:VEVENT
END:VCALENDAR
