BEGIN:VCALENDAR
VERSION:2.0
PRODID:Greensboro, NC Calendar Creator
METHOD:PUBLISH
BEGIN:VEVENT
DTSTAMP:20260311T104424
DTSTART:20260519T183000
DTEND:20260519T190000
SUMMARY:Music for a Great Space Storytelling Series at the Glenn McNairy Branch
DESCRIPTION:<p>This evening's family storytime will feature musicians from Music for a Great Space who will offer their storytelling series for your listening pleasure. Ms. Kelly will present&nbsp;<i>Goldilocks and the Three Dinosaurs </i>by Mo Willems<i>&nbsp;</i>as accomplished musicians engage the audience with the sounds and movements of the story. This concert is perfect for school age students and the Q &amp; A after will benefit older students who are seeking a career in music performance. All ages are welcome. This program will take the place of the regularly scheduled Family Storytime.&nbsp;</p><p></p><p>&nbsp;</p><p style="text-align: left;">&nbsp;</p><p style="text-align: left;">&nbsp;</p>
X-ALT-DESC;FMTTYPE=text/html:<p>This evening's family storytime will feature musicians from Music for a Great Space who will offer their storytelling series for your listening pleasure. Ms. Kelly will present&nbsp;<i>Goldilocks and the Three Dinosaurs </i>by Mo Willems<i>&nbsp;</i>as accomplished musicians engage the audience with the sounds and movements of the story. This concert is perfect for school age students and the Q &amp; A after will benefit older students who are seeking a career in music performance. All ages are welcome. This program will take the place of the regularly scheduled Family Storytime.&nbsp;</p><p></p><p>&nbsp;</p><p style="text-align: left;">&nbsp;</p><p style="text-align: left;">&nbsp;</p>
LOCATION:Glenn McNairy Branch Library\, 4860 Lake Jeanette Rd. Greensboro\, North Carolina 27455
CLASS:PUBLIC
END:VEVENT
END:VCALENDAR
