BEGIN:VCALENDAR
VERSION:2.0
PRODID:Greensboro, NC Calendar Creator
METHOD:PUBLISH
BEGIN:VEVENT
DTSTAMP:20260311T104242
DTSTART:20260617T143000
DTEND:20260617T153000
SUMMARY:Dinosaur Adventure Challenge at Central Library
DESCRIPTION:<p>Are you up for our Dinosaur Adventure Challenge?&nbsp;Drop in&nbsp;for this&nbsp;fun obstacle course all about dinosaurs and prehistoric animals.&nbsp;Test your&nbsp;skills as you&nbsp;save dinosaur eggs, cross a lava flow, feed a&nbsp;hungry&nbsp;T-Rex, and&nbsp;more!&nbsp;</p><p>&nbsp;</p>
X-ALT-DESC;FMTTYPE=text/html:<p>Are you up for our Dinosaur Adventure Challenge?&nbsp;Drop in&nbsp;for this&nbsp;fun obstacle course all about dinosaurs and prehistoric animals.&nbsp;Test your&nbsp;skills as you&nbsp;save dinosaur eggs, cross a lava flow, feed a&nbsp;hungry&nbsp;T-Rex, and&nbsp;more!&nbsp;</p><p>&nbsp;</p>
LOCATION:Central Library\, 219 N. Church St. Greensboro\, North Carolina 27401
CLASS:PUBLIC
END:VEVENT
END:VCALENDAR
