BEGIN:VCALENDAR
VERSION:2.0
PRODID:Greensboro, NC Calendar Creator
METHOD:PUBLISH
BEGIN:VEVENT
DTSTAMP:20260311T104204
DTSTART:20260625T110000
DTEND:20260625T120000
SUMMARY:Dinosaur Adventure Challenge at the Glenn McNairy Branch
DESCRIPTION:<p>Are you up for our Dinosaur Adventure Challenge?&nbsp;Drop in&nbsp;for this&nbsp;fun obstacle course all about dinosaurs and prehistoric animals.&nbsp;Test your&nbsp;skills as you&nbsp;save dinosaur eggs, cross a lava flow, feed a&nbsp;hungry&nbsp;T-Rex, and&nbsp;more!&nbsp;</p><p>This is a drop-in program. Stop by anytime between 11 am and 12 pm to play! All ages are welcome.&nbsp;</p><p>This is traveling program which will occur several times this summer at multiple branches.</p><p>&nbsp;</p>
X-ALT-DESC;FMTTYPE=text/html:<p>Are you up for our Dinosaur Adventure Challenge?&nbsp;Drop in&nbsp;for this&nbsp;fun obstacle course all about dinosaurs and prehistoric animals.&nbsp;Test your&nbsp;skills as you&nbsp;save dinosaur eggs, cross a lava flow, feed a&nbsp;hungry&nbsp;T-Rex, and&nbsp;more!&nbsp;</p><p>This is a drop-in program. Stop by anytime between 11 am and 12 pm to play! All ages are welcome.&nbsp;</p><p>This is traveling program which will occur several times this summer at multiple branches.</p><p>&nbsp;</p>
LOCATION:Glenn McNairy Branch Library\, 4860 Lake Jeanette Rd. Greensboro\, North Carolina 27455
CLASS:PUBLIC
END:VEVENT
END:VCALENDAR
