BEGIN:VCALENDAR
VERSION:2.0
PRODID:Greensboro, NC Calendar Creator
METHOD:PUBLISH
BEGIN:VEVENT
DTSTAMP:20260318T111153
DTSTART:20260801T120000
DTEND:20260801T180000
SUMMARY:First Saturday Stroll on Elm
DESCRIPTION:<p>Downtown Greensboro has a new monthly tradition, and everyone is invited!</p><p>Every first Saturday, the 300 block of Elm Street will come alive with local vendors, small businesses, live music, dancing, and activities for the whole family. Whether you're a longtime downtown regular or just looking for something fun to do, the Stroll is a great reason to get outside and explore everything downtown Greensboro has to offer.</p><p>When:&nbsp;Every first Saturday, starting April 4</p><p>Where:&nbsp;300 block of Elm Street between McGee Street and Washington Street</p><p>Free and open to the public.</p><p><a href="https://www.downtowngreensboro.org/events/first-saturday-stroll-on-elm" target="_blank" rel="noopener">Learn more</a>.</p>
X-ALT-DESC;FMTTYPE=text/html:<p>Downtown Greensboro has a new monthly tradition, and everyone is invited!</p><p>Every first Saturday, the 300 block of Elm Street will come alive with local vendors, small businesses, live music, dancing, and activities for the whole family. Whether you're a longtime downtown regular or just looking for something fun to do, the Stroll is a great reason to get outside and explore everything downtown Greensboro has to offer.</p><p>When:&nbsp;Every first Saturday, starting April 4</p><p>Where:&nbsp;300 block of Elm Street between McGee Street and Washington Street</p><p>Free and open to the public.</p><p><a href="https://www.downtowngreensboro.org/events/first-saturday-stroll-on-elm" target="_blank" rel="noopener">Learn more</a>.</p>
LOCATION:300 block of Elm St. between McGee St. and Washington St.\, Greensboro\, North Carolina 27401
CLASS:PUBLIC
END:VEVENT
END:VCALENDAR
