BEGIN:VCALENDAR
VERSION:2.0
PRODID:Greensboro, NC Calendar Creator
METHOD:PUBLISH
BEGIN:VEVENT
DTSTAMP:20260310T151054
DTSTART:20260806T180000
DTEND:20260806T190000
SUMMARY:A Jurassic Spa Day!
DESCRIPTION:<p>Enjoy a relaxing mini-spa day, Dinosaur-Style! We’ll have a small variety of spa crafts for you to make and take home with you, like a Jurassic Zen Garden, an “At the Dig” sugar scrub, and a Dino Footprint diffuser. This program is for tweens, teens, and adults and supplies are limited, so registration is recommended. To register, please call the Glenn McNairy Branch Library at 336-373-2015 or email <a href="mailto:&#109;&#97;&#100;&#101;&#108;&#105;&#110;&#101;&#46;&#97;&#110;&#103;&#108;&#105;&#110;&#64;&#103;&#114;&#101;&#101;&#110;&#115;&#98;&#111;&#114;&#111;&#45;&#110;&#99;&#46;&#103;&#111;&#118;">Madeline</a>.&nbsp;</p>
X-ALT-DESC;FMTTYPE=text/html:<p>Enjoy a relaxing mini-spa day, Dinosaur-Style! We’ll have a small variety of spa crafts for you to make and take home with you, like a Jurassic Zen Garden, an “At the Dig” sugar scrub, and a Dino Footprint diffuser. This program is for tweens, teens, and adults and supplies are limited, so registration is recommended. To register, please call the Glenn McNairy Branch Library at 336-373-2015 or email <a href="mailto:&#109;&#97;&#100;&#101;&#108;&#105;&#110;&#101;&#46;&#97;&#110;&#103;&#108;&#105;&#110;&#64;&#103;&#114;&#101;&#101;&#110;&#115;&#98;&#111;&#114;&#111;&#45;&#110;&#99;&#46;&#103;&#111;&#118;">Madeline</a>.&nbsp;</p>
LOCATION:Glenn McNairy Branch Library\, 4860 Lake Jeanette Rd. Greensboro\, North Carolina 27455
CLASS:PUBLIC
END:VEVENT
END:VCALENDAR
