BEGIN:VCALENDAR
VERSION:2.0
PRODID:Greensboro, NC Calendar Creator
METHOD:PUBLISH
BEGIN:VEVENT
DTSTAMP:20260309T165605
DTSTART:20260521T173000
DTEND:20260521T200000
SUMMARY:Taste of the Asian/Pacific Island Diaspora
DESCRIPTION:<p>&nbsp;Join with the City's International Advisory Committee, the Office of Business Opportunity, and Creative Greensboro in this celebration of Asian/Pacific Island history and culture. Taste foods inspired by Asian/Pacific Island culture prepared by local chefs, experience Asian/Pacific Island performances, and connect with City resources at this event. Registration at <a href="https://www.eventbrite.com/e/1984821312977?aff=oddtdtcreator">https://www.eventbrite.com/e/1984821312977</a>&nbsp;is required to attend.</p><p>This gathering is part of the Human Rights Department's Taste of the Diaspora: Foodways &amp; Futures, a four-part cultural mixer series designed to celebrate heritage through diaspora foodways, community storytelling, and arts engagement, while also strengthening public awareness of City resources and civic engagement opportunities.&nbsp;</p>
X-ALT-DESC;FMTTYPE=text/html:<p>&nbsp;Join with the City's International Advisory Committee, the Office of Business Opportunity, and Creative Greensboro in this celebration of Asian/Pacific Island history and culture. Taste foods inspired by Asian/Pacific Island culture prepared by local chefs, experience Asian/Pacific Island performances, and connect with City resources at this event. Registration at <a href="https://www.eventbrite.com/e/1984821312977?aff=oddtdtcreator">https://www.eventbrite.com/e/1984821312977</a>&nbsp;is required to attend.</p><p>This gathering is part of the Human Rights Department's Taste of the Diaspora: Foodways &amp; Futures, a four-part cultural mixer series designed to celebrate heritage through diaspora foodways, community storytelling, and arts engagement, while also strengthening public awareness of City resources and civic engagement opportunities.&nbsp;</p>
LOCATION:Greensboro Cultural Center\, 200 N. Davie St. Greensboro\, North Carolina 27401
CLASS:PUBLIC
END:VEVENT
END:VCALENDAR
