BEGIN:VCALENDAR
VERSION:2.0
PRODID:Greensboro, NC Calendar Creator
METHOD:PUBLISH
BEGIN:VEVENT
DTSTAMP:20260309T153457
DTSTART:20260519T153000
DTEND:20260519T170000
SUMMARY:Glenwood LEGOs
DESCRIPTION:<p>Join us for creating marble mazes with LEGOs.&nbsp;All ages are welcome and toddlers may play in a nearby area with larger blocks.</p><p></p>
X-ALT-DESC;FMTTYPE=text/html:<p>Join us for creating marble mazes with LEGOs.&nbsp;All ages are welcome and toddlers may play in a nearby area with larger blocks.</p><p></p>
LOCATION:Glenwood Branch Library\, 1901 W. Florida St. Greensboro\, North Carolina 27403
CLASS:PUBLIC
END:VEVENT
END:VCALENDAR
