BEGIN:VCALENDAR
VERSION:2.0
PRODID:Greensboro, NC Calendar Creator
METHOD:PUBLISH
BEGIN:VEVENT
DTSTAMP:20260309T152828
DTSTART:20260521T180000
DTEND:20260521T190000
SUMMARY:Life Cycle of a Star Nebula
DESCRIPTION:<p>Learn about the life cycle of stars and then create your own nebula using paint and a salad spinner. This program is for all artsy teens and tweens.</p><p></p><p>&nbsp;</p>
X-ALT-DESC;FMTTYPE=text/html:<p>Learn about the life cycle of stars and then create your own nebula using paint and a salad spinner. This program is for all artsy teens and tweens.</p><p></p><p>&nbsp;</p>
LOCATION:Glenwood Branch Library\, 1901 W. Florida St. Greensboro\, North Carolina 27403
CLASS:PUBLIC
END:VEVENT
END:VCALENDAR
