BEGIN:VCALENDAR
VERSION:2.0
PRODID:Greensboro, NC Calendar Creator
METHOD:PUBLISH
BEGIN:VEVENT
DTSTAMP:20260309T112846
DTSTART:20260715T180000
DTEND:20260715T193000
SUMMARY:Textile Time At Night - Special Summer Reading Session!
DESCRIPTION:<p>Join us at Glenn McNairy for a night of crafting, community, and conversation – all experience levels welcome! Bring your own supplies and whatever project you’re working on, whether knitting, crochet, quilting, embroidery, cross-stitch, or other fiber crafts.&nbsp;This evening’s program will also include dinosaur-themed projects! Learn to create a T-Rex in cross-stitch or make a dinosaur stuffie from felt! This program is recommended for ages 10 and up.</p>
X-ALT-DESC;FMTTYPE=text/html:<p>Join us at Glenn McNairy for a night of crafting, community, and conversation – all experience levels welcome! Bring your own supplies and whatever project you’re working on, whether knitting, crochet, quilting, embroidery, cross-stitch, or other fiber crafts.&nbsp;This evening’s program will also include dinosaur-themed projects! Learn to create a T-Rex in cross-stitch or make a dinosaur stuffie from felt! This program is recommended for ages 10 and up.</p>
LOCATION:Glenn McNairy Branch Library\, 4860 Lake Jeanette Rd. Greensboro\, North Carolina 27455
CLASS:PUBLIC
END:VEVENT
END:VCALENDAR
