BEGIN:VCALENDAR
VERSION:2.0
PRODID:Greensboro, NC Calendar Creator
METHOD:PUBLISH
BEGIN:VEVENT
DTSTAMP:20260309T111152
DTSTART:20260715T150000
DTEND:20260715T170000
SUMMARY:LEGO at the Library
DESCRIPTION:Design and build your own LEGO creations. Challenge your family and friends to see what you can make! Choose one to proudly display in the front case until the next program. This event is for families and all materials are provided.
X-ALT-DESC;FMTTYPE=text/html:Design and build your own LEGO creations. Challenge your family and friends to see what you can make! Choose one to proudly display in the front case until the next program. This event is for families and all materials are provided.
LOCATION:Kathleen Clay Edwards Family Branch Library\, 1420 Price Park Rd. Greensboro\, North Carolina 27410
CLASS:PUBLIC
END:VEVENT
END:VCALENDAR
