BEGIN:VCALENDAR
VERSION:2.0
PRODID:Greensboro, NC Calendar Creator
METHOD:PUBLISH
BEGIN:VEVENT
DTSTAMP:20260309T110201
DTSTART:20260513T160000
DTEND:20260513T170000
SUMMARY:Painting Bookmarks & Books
DESCRIPTION:Come paint your own wooden bookmark and book to take home with you! All supplies are provided. This program is intended for ages 5 to 12.
X-ALT-DESC;FMTTYPE=text/html:Come paint your own wooden bookmark and book to take home with you! All supplies are provided. This program is intended for ages 5 to 12.
LOCATION:Kathleen Clay Edwards Family Branch Library\, 1420 Price Park Rd. Greensboro\, North Carolina 27410
CLASS:PUBLIC
END:VEVENT
END:VCALENDAR
