BEGIN:VCALENDAR
VERSION:2.0
PRODID:Greensboro, NC Calendar Creator
METHOD:PUBLISH
BEGIN:VEVENT
DTSTAMP:20260309T110136
DTSTART:20260603T163000
DTEND:20260603T180000
SUMMARY:Creek Quest
DESCRIPTION:We’ll start indoors to uncover hands-on water science. Then we’ll head outdoors for a creek investigation. Wear clothes and shoes that can get wet while we explore.
X-ALT-DESC;FMTTYPE=text/html:We’ll start indoors to uncover hands-on water science. Then we’ll head outdoors for a creek investigation. Wear clothes and shoes that can get wet while we explore.
LOCATION:Kathleen Clay Edwards Family Branch Library\, 1420 Price Park Rd. Greensboro\, North Carolina 27410
CLASS:PUBLIC
END:VEVENT
END:VCALENDAR
