BEGIN:VCALENDAR
VERSION:2.0
PRODID:Greensboro, NC Calendar Creator
METHOD:PUBLISH
BEGIN:VEVENT
DTSTAMP:20260309T105958
DTSTART:20260602T160000
DTEND:20260602T170000
SUMMARY:Recycled Art
DESCRIPTION:Make a special Creek Week themed art project out of non-recyclable materials. Learn which items are recyclable and those that are not.
X-ALT-DESC;FMTTYPE=text/html:Make a special Creek Week themed art project out of non-recyclable materials. Learn which items are recyclable and those that are not.
LOCATION:Kathleen Clay Edwards Family Branch Library\, 1420 Price Park Rd. Greensboro\, North Carolina 27410
CLASS:PUBLIC
END:VEVENT
END:VCALENDAR
