BEGIN:VCALENDAR
VERSION:2.0
PRODID:Greensboro, NC Calendar Creator
METHOD:PUBLISH
BEGIN:VEVENT
DTSTAMP:20260306T155255
DTSTART:20260804T103000
DTEND:20260804T120000
SUMMARY:Textile Time
DESCRIPTION:Join us at Glenn McNairy for crafting, community, and conversation - all experience levels welcome! Bring your own supplies and whatever project you're working on, whether  knitting, crochet, quilting, sewing, or other fiber crafts.
X-ALT-DESC;FMTTYPE=text/html:Join us at Glenn McNairy for crafting, community, and conversation - all experience levels welcome! Bring your own supplies and whatever project you're working on, whether  knitting, crochet, quilting, sewing, or other fiber crafts.
LOCATION:Glenn McNairy Branch Library\, 4860 Lake Jeanette Rd. Greensboro\, North Carolina 27455
CLASS:PUBLIC
END:VEVENT
END:VCALENDAR
