BEGIN:VCALENDAR
VERSION:2.0
PRODID:Greensboro, NC Calendar Creator
METHOD:PUBLISH
BEGIN:VEVENT
DTSTAMP:20260306T155045
DTSTART:20260622T100000
DTEND:20260622T110000
SUMMARY:Big Bang Boom
DESCRIPTION:Get ready to crank up the fun when Big Bang Boom takes the stage with a high-energy concert made for children and grown-ups who love great music too. This rockin' trio blends pop hooks, hip-hop beats, and playful lessons into songs that are catchy, clever, and full of surprises. Come sing, move, laugh, and learn together!
X-ALT-DESC;FMTTYPE=text/html:Get ready to crank up the fun when Big Bang Boom takes the stage with a high-energy concert made for children and grown-ups who love great music too. This rockin' trio blends pop hooks, hip-hop beats, and playful lessons into songs that are catchy, clever, and full of surprises. Come sing, move, laugh, and learn together!
LOCATION:Kathleen Clay Edwards Family Branch Library\, 1420 Price Park Rd. Greensboro\, North Carolina 27410
CLASS:PUBLIC
END:VEVENT
END:VCALENDAR
