BEGIN:VCALENDAR
VERSION:2.0
PRODID:Greensboro, NC Calendar Creator
METHOD:PUBLISH
BEGIN:VEVENT
DTSTAMP:20260306T145539
DTSTART:20260611T183000
DTEND:20260611T193000
SUMMARY:Juneteenth: Freedom, Health, and Community
DESCRIPTION:<p>The&nbsp;UNCG Public Health Education Department will share a reflective and educational program which honors Juneteenth by exploring its historical roots and continued relevance through storytelling, discussion, and a public health lens. Participants will examine how freedom, access, and health outcomes intersect, gaining deeper insight into the lasting impact of emancipation on Black communities today. The program encourages dialogue, reflection, and community connection in a supportive environment.</p><p></p>
X-ALT-DESC;FMTTYPE=text/html:<p>The&nbsp;UNCG Public Health Education Department will share a reflective and educational program which honors Juneteenth by exploring its historical roots and continued relevance through storytelling, discussion, and a public health lens. Participants will examine how freedom, access, and health outcomes intersect, gaining deeper insight into the lasting impact of emancipation on Black communities today. The program encourages dialogue, reflection, and community connection in a supportive environment.</p><p></p>
LOCATION:Glenwood Branch Library\, 1901 W. Florida St. Greensboro\, North Carolina 27403
CLASS:PUBLIC
END:VEVENT
END:VCALENDAR
