BEGIN:VCALENDAR
VERSION:2.0
PRODID:Greensboro, NC Calendar Creator
METHOD:PUBLISH
BEGIN:VEVENT
DTSTAMP:20260306T144744
DTSTART:20260820T183000
DTEND:20260820T193000
SUMMARY:Basic PowerPoint 101
DESCRIPTION:<p>PowerPoint 101 is a welcoming, beginner-friendly workshop for anyone who has ever wanted to learn this Microsoft software. This hands-on session walks participants through the basics of creating clear, visually engaging presentations, from organizing content to choosing layouts that actually make sense. You will learn simple design and communication tips that help your ideas shine; no prior experience required.</p><p></p>
X-ALT-DESC;FMTTYPE=text/html:<p>PowerPoint 101 is a welcoming, beginner-friendly workshop for anyone who has ever wanted to learn this Microsoft software. This hands-on session walks participants through the basics of creating clear, visually engaging presentations, from organizing content to choosing layouts that actually make sense. You will learn simple design and communication tips that help your ideas shine; no prior experience required.</p><p></p>
LOCATION:Glenwood Branch Library\, 1901 W. Florida St. Greensboro\, North Carolina 27403
CLASS:PUBLIC
END:VEVENT
END:VCALENDAR
