BEGIN:VCALENDAR
VERSION:2.0
PRODID:Greensboro, NC Calendar Creator
METHOD:PUBLISH
BEGIN:VEVENT
DTSTAMP:20260310T151257
DTSTART:20260624T150000
DTEND:20260624T160000
SUMMARY:Bead & Bracelets for Tweens
DESCRIPTION:Design your own bracelets for friends and for yourself! All supplies are provided. This program is intended for ages 10 to 18.
X-ALT-DESC;FMTTYPE=text/html:Design your own bracelets for friends and for yourself! All supplies are provided. This program is intended for ages 10 to 18.
LOCATION:Kathleen Clay Edwards Family Branch Library\, 1420 Price Park Rd. Greensboro\, North Carolina 27410
CLASS:PUBLIC
END:VEVENT
END:VCALENDAR
