BEGIN:VCALENDAR
VERSION:2.0
PRODID:Greensboro, NC Calendar Creator
METHOD:PUBLISH
BEGIN:VEVENT
DTSTAMP:20180109T031834
DTSTART:20111005T093000
DTEND:20111005T214500
SUMMARY:Mother Goose Story Time
DESCRIPTION:Short, interactive program of stories and finger plays for infants 0-18 months. Call 336-373-7540 for more information.
X-ALT-DESC;FMTTYPE=text/html:Short, interactive program of stories and finger plays for infants 0-18 months. Call 336-373-7540 for more information.
LOCATION:Benjamin Branch Library\, 1530 Benjamin Parkway Greensboro\, North Carolina 27408
CLASS:PUBLIC
END:VEVENT
END:VCALENDAR
