BEGIN:VCALENDAR
VERSION:2.0
PRODID:Greensboro, NC Calendar Creator
METHOD:PUBLISH
BEGIN:VEVENT
DTSTAMP:20260305T142620
DTSTART:20260512T100000
DTEND:20260512T110000
SUMMARY:Preschool Nature Program
DESCRIPTION:<p>Each date for the Preschool Nature&nbsp;program, for ages 2-6, will touch on a different topic. We will begin each program with a short book followed by a craft/activity. The programs do not all take place at the same location so please make sure you pay special attention to the program locations. All of our programs will take place outside so programs are subject to be cancelled if inclement weather occurs.</p><p>$5 per person.&nbsp;<a href="https://tinyurl.com/NaturePreschool2026" target="_blank" rel="noopener">Registration</a> is required.<br><br>April 14<br>Location: Country Park Shelter 1<br>3905 Nathanael Green Dr, Greensboro, NC 27455<br>Topic: Salamanders<strong><br></strong><br>April 28th<br>Location: Country Park Shelter 1<br>3905 Nathanael Green Dr, Greensboro, NC 27455<br>Topic: iSpy Nature Walk<br><br><strong>May 12th<br>Location: Keeley Park Garden Shelter<br>4100 Keeley Rd, McLeansville, NC 27301<br>Topic: Dragonflies</strong><br><br>May 26th<br>Location: Keeley Park Garden Shelter<br>4100 Keeley Rd, McLeansville, NC 27301<br>Topic: Butterflies</p>
X-ALT-DESC;FMTTYPE=text/html:<p>Each date for the Preschool Nature&nbsp;program, for ages 2-6, will touch on a different topic. We will begin each program with a short book followed by a craft/activity. The programs do not all take place at the same location so please make sure you pay special attention to the program locations. All of our programs will take place outside so programs are subject to be cancelled if inclement weather occurs.</p><p>$5 per person.&nbsp;<a href="https://tinyurl.com/NaturePreschool2026" target="_blank" rel="noopener">Registration</a> is required.<br><br>April 14<br>Location: Country Park Shelter 1<br>3905 Nathanael Green Dr, Greensboro, NC 27455<br>Topic: Salamanders<strong><br></strong><br>April 28th<br>Location: Country Park Shelter 1<br>3905 Nathanael Green Dr, Greensboro, NC 27455<br>Topic: iSpy Nature Walk<br><br><strong>May 12th<br>Location: Keeley Park Garden Shelter<br>4100 Keeley Rd, McLeansville, NC 27301<br>Topic: Dragonflies</strong><br><br>May 26th<br>Location: Keeley Park Garden Shelter<br>4100 Keeley Rd, McLeansville, NC 27301<br>Topic: Butterflies</p>
LOCATION:Keeley Park\, 4110 Keeley Rd. McLeansville\, North Carolina 27301
CLASS:PUBLIC
END:VEVENT
END:VCALENDAR
