BEGIN:VCALENDAR
VERSION:2.0
PRODID:Greensboro, NC Calendar Creator
METHOD:PUBLISH
BEGIN:VEVENT
DTSTAMP:20260304T162517
DTSTART:20260421T153000
DTEND:20260421T170000
SUMMARY:Glenwood LEGOs
DESCRIPTION:Join us for building bugs with LEGOs.&nbsp;All ages are welcome and toddlers may play in a nearby area with larger blocks.
X-ALT-DESC;FMTTYPE=text/html:Join us for building bugs with LEGOs.&nbsp;All ages are welcome and toddlers may play in a nearby area with larger blocks.
LOCATION:Glenwood Branch Library\, 1901 W. Florida St. Greensboro\, North Carolina 27403
CLASS:PUBLIC
END:VEVENT
END:VCALENDAR
