BEGIN:VCALENDAR
VERSION:2.0
PRODID:Greensboro, NC Calendar Creator
METHOD:PUBLISH
BEGIN:VEVENT
DTSTAMP:20260304T162438
DTSTART:20260428T153000
DTEND:20260428T163000
SUMMARY:Music for a Great Space Storytelling
DESCRIPTION:<p>Join us for a special musical retelling of Maurice Sendak's <em>Where the Wild Things Are&nbsp;</em>with guests from Music for a Great Space. Imagine Max's encounter with the Wild Things and the unconditional love found at home.</p><p></p>
X-ALT-DESC;FMTTYPE=text/html:<p>Join us for a special musical retelling of Maurice Sendak's <em>Where the Wild Things Are&nbsp;</em>with guests from Music for a Great Space. Imagine Max's encounter with the Wild Things and the unconditional love found at home.</p><p></p>
LOCATION:Glenwood Branch Library\, 1901 W. Florida St. Greensboro\, North Carolina 27403
CLASS:PUBLIC
END:VEVENT
END:VCALENDAR
