BEGIN:VCALENDAR
VERSION:2.0
PRODID:Greensboro, NC Calendar Creator
METHOD:PUBLISH
BEGIN:VEVENT
DTSTAMP:20260304T154244
DTSTART:20260523T100000
DTEND:20260523T120000
SUMMARY:Active Adults: Nature Therapy
DESCRIPTION:<p>Nature Immersion Forest Bathing: Nature Through Mindful Engagement&nbsp; </p><p>Laura Coffee, certified Forest Therapy Guide, invites you to step into the serene world of Shinrin-Yoku, the Japanese practice of "forest bathing," where you engage your senses to forge a deeper connection with nature.&nbsp;<br><br>Join Laura on one of the monthly sessions below:&nbsp;&nbsp;<br>Sunday, March 22, TBD<br><br>Saturday, April 18, 2-4 pm: Guilford Courthouse National Military Park, 2332 New Garden Rd. Meet at the Nathanael Greene Statue.&nbsp;<br><br><strong>Saturday, May 23, 10 am to 12 noon Bill Craft Trail. Meet at trailhead near 646 Simpson Calhoun Rd behind Northern Middle School.&nbsp;&nbsp;</strong><br><br>Additional information: Registration not required. Completion of Active Adults health form is required on day of session.&nbsp;<br><br>Wear comfortable clothes and shoes. Bring water, hiking poles, sunscreen, and bug spray, if needed. Portable stools and mats are available for use, or bring your own. Sessions will be held rain or shine. Call the weather line at 336-373-7940 beginning at 8 am.</p>
X-ALT-DESC;FMTTYPE=text/html:<p>Nature Immersion Forest Bathing: Nature Through Mindful Engagement&nbsp; </p><p>Laura Coffee, certified Forest Therapy Guide, invites you to step into the serene world of Shinrin-Yoku, the Japanese practice of "forest bathing," where you engage your senses to forge a deeper connection with nature.&nbsp;<br><br>Join Laura on one of the monthly sessions below:&nbsp;&nbsp;<br>Sunday, March 22, TBD<br><br>Saturday, April 18, 2-4 pm: Guilford Courthouse National Military Park, 2332 New Garden Rd. Meet at the Nathanael Greene Statue.&nbsp;<br><br><strong>Saturday, May 23, 10 am to 12 noon Bill Craft Trail. Meet at trailhead near 646 Simpson Calhoun Rd behind Northern Middle School.&nbsp;&nbsp;</strong><br><br>Additional information: Registration not required. Completion of Active Adults health form is required on day of session.&nbsp;<br><br>Wear comfortable clothes and shoes. Bring water, hiking poles, sunscreen, and bug spray, if needed. Portable stools and mats are available for use, or bring your own. Sessions will be held rain or shine. Call the weather line at 336-373-7940 beginning at 8 am.</p>
LOCATION:Bill Craft Trail\, 646 Simpson Calhoun Rd. - Meet at Trailhead Greensboro\, North Carolina 27455
CLASS:PUBLIC
END:VEVENT
END:VCALENDAR
