BEGIN:VCALENDAR
VERSION:2.0
PRODID:Greensboro, NC Calendar Creator
METHOD:PUBLISH
BEGIN:VEVENT
DTSTAMP:20260303T141926
DTSTART:20260624T100000
DTEND:20260624T150000
SUMMARY:Tombs & Catacombs at Central Library
DESCRIPTION:<p>Travel below the surface and visit ancient underground cities and spaces. See the Paris Catacombs and the Ellora Caves of India. Visit the inside of an Egyptian pyramid and the Wieliczka Salt Mine. Experience the Glow Worm Caves of New Zealand and dig for buried treasure! This immersive program will delight the whole family!</p>
X-ALT-DESC;FMTTYPE=text/html:<p>Travel below the surface and visit ancient underground cities and spaces. See the Paris Catacombs and the Ellora Caves of India. Visit the inside of an Egyptian pyramid and the Wieliczka Salt Mine. Experience the Glow Worm Caves of New Zealand and dig for buried treasure! This immersive program will delight the whole family!</p>
LOCATION:Central Library\, 219 N. Church St. Greensboro\, North Carolina 27401
CLASS:PUBLIC
END:VEVENT
END:VCALENDAR
