BEGIN:VCALENDAR
VERSION:2.0
PRODID:Greensboro, NC Calendar Creator
METHOD:PUBLISH
BEGIN:VEVENT
DTSTAMP:20260303T115152
DTSTART:20260806T160000
DTEND:20260806T170000
SUMMARY:Washi Desk Décor for Teens & Tweens at Benjamin Branch
DESCRIPTION:<p>At this teen craft program, you’ll decorate a small notebook, pencils, paper clips and more using colorful washi tape and fun patterns. Mix and match designs, layer textures, and turn everyday school supplies into something uniquely yours. All supplies provided. Just bring your creativity. This program is for 11-18 year olds.</p><p></p>
X-ALT-DESC;FMTTYPE=text/html:<p>At this teen craft program, you’ll decorate a small notebook, pencils, paper clips and more using colorful washi tape and fun patterns. Mix and match designs, layer textures, and turn everyday school supplies into something uniquely yours. All supplies provided. Just bring your creativity. This program is for 11-18 year olds.</p><p></p>
LOCATION:Benjamin Branch Library\, 1530 Benjamin Parkway Greensboro\, North Carolina 27408
CLASS:PUBLIC
END:VEVENT
END:VCALENDAR
